BEGIN:VCALENDAR
VERSION:2.0
METHOD:PUBLISH
PRODID:-//Accessible Web Design//My Calendar//http://www.joedolson.com//v//EN';
BEGIN:VEVENT
UID:511-491
LOCATION:Pavillón Municipal Jonathan Carro Paz Rúa do Carme, 31, 27300 Guitiriz, Lugo
SUMMARY:Fútbol sala: O Korreo Guitiriz FS - Concello de Friol FS (Terceira División Nacional)
DTSTAMP:20250503T180000
ORGANIZER;CN=Fran García:MAILTO:fran.garcia@artabra.es
DTSTART:20250503T180000
DTEND:20250503T200000
CATEGORIES:Fútbol sala, General
URL;VALUE=URI:https://deportes.concellodeguitiriz.com/mc-events/futbol-sala-o-korreo-guitiriz-fs-concello-de-friol-fs-terceira-division-nacional/?mc_id=511
DESCRIPTION:O sábado 3 de maio ás 18:00 horas o Pavillón Municipal Jonathan Carro Paz acollerá un partido da 3ª División Nacional FS (Grupo 1), onde o primeiro equipo verase as caras ante o Concello de Friol FS.
END:VEVENT
END:VCALENDAR