BEGIN:VCALENDAR
VERSION:2.0
METHOD:PUBLISH
PRODID:-//Accessible Web Design//My Calendar//http://www.joedolson.com//v//EN';
BEGIN:VEVENT
UID:855-823
LOCATION:
SUMMARY:Fútbol sala: Pastoriza - EDM Guitiriz 1 (Prebenxamín Xogade)
DTSTAMP:20260206T170000
ORGANIZER;CN=Fran García:MAILTO:fran.garcia@artabra.es
DTSTART:20260206T170000
DTEND:20260206T180000
CATEGORIES:Fútbol sala
URL;VALUE=URI:https://deportes.concellodeguitiriz.com/mc-events/futbol-sala-pastoriza-edm-guitiriz-1-prebenxamin-xogade/?mc_id=855
DESCRIPTION:O venres 6 de febreiro ás 17:00 horas o equipo prebenxamín das EDM Guitiriz verase as caras contra o equipo Pastoriza nun partido do programa Xogade en Pastoriza.
END:VEVENT
END:VCALENDAR