BEGIN:VCALENDAR
VERSION:2.0
METHOD:PUBLISH
PRODID:-//Accessible Web Design//My Calendar//http://www.joedolson.com//v//EN';
BEGIN:VEVENT
UID:1006-971
LOCATION:Pavillón Municipal Jonathan Carro Paz Rúa do Carme, 31, 27300 Guitiriz, Lugo
SUMMARY:Fútbol sala: EDM Guitiriz 2 - Outeiro 1 (Prebenxamín Xogade)
DTSTAMP:20260422T180000
ORGANIZER;CN=Fran García:MAILTO:fran.garcia@artabra.es
DTSTART:20260422T180000
DTEND:20260422T190000
CATEGORIES:Fútbol sala
URL;VALUE=URI:https://deportes.concellodeguitiriz.com/mc-events/futbol-sala-edm-guitiriz-2-outeiro-1-prebenxamin-xogade-2/?mc_id=1006
DESCRIPTION:O mércores 22 de abril ás 18:00 horas o equipo prebenxamín 2 das EDM Guitiriz verase as caras contra o equipo Outeiro 1 nun partido do programa Xogade no Pavillón Jonathan Carro Paz.
END:VEVENT
END:VCALENDAR