BEGIN:VCALENDAR
VERSION:2.0
METHOD:PUBLISH
PRODID:-//Accessible Web Design//My Calendar//http://www.joedolson.com//v//EN';
BEGIN:VEVENT
UID:107-104
LOCATION:Pavillón Municipal Jonathan Carro Paz Rúa do Carme, 31, 27300 Guitiriz, Lugo
SUMMARY:Fútbol sala: EDM Guitiriz - Praias de Barreiros CD (Cadete)
DTSTAMP:20241019T193000
ORGANIZER;CN=Fran García:MAILTO:fran.garcia@artabra.es
DTSTART:20241019T193000
DTEND:20241019T210000
CATEGORIES:Fútbol sala, General
URL;VALUE=URI:https://deportes.concellodeguitiriz.com/mc-events/futbol-sala-edm-guitiriz-praias-de-barreiros-cd-cadete/?mc_id=107
DESCRIPTION:O sábado 19 de outubro ás 19:30 horas o Pavillón Municipal Jonathan Carro Paz acollerá o partido da 1ª xornada da 1ª Futgal Cadete FS (Lugo), onde o equipo cadete das EDM Guitiriz verase as caras ante o Praias de Barreiros CD.
END:VEVENT
END:VCALENDAR