BEGIN:VCALENDAR
VERSION:2.0
METHOD:PUBLISH
PRODID:-//Accessible Web Design//My Calendar//http://www.joedolson.com//v//EN';
BEGIN:VEVENT
UID:11-9
LOCATION:Pavillón Municipal Jonathan Carro Paz Rúa do Carme, 31, 27300 Guitiriz, Lugo
SUMMARY:Fútbol sala: Guitiriz - Curtis
DTSTAMP:20240510T161500
ORGANIZER;CN=admin:MAILTO:mlexposito@gmail.com
DTSTART:20240510T161500
DTEND:20240510T201500
CATEGORIES:Fútbol sala, General
URL;VALUE=URI:https://deportes.concellodeguitiriz.com/mc-events/futbol-sala-guitiriz-curtis/?mc_id=11
DESCRIPTION:Amigables ante as Escolas do Concello de Curtis. 16:15 h. / Biberóns 17:00 h. / Prebenxamín 2 17:50 h. / Benxamín 2 18:30 h. / Alevín 19:15 h. / Infantil 2
END:VEVENT
END:VCALENDAR