BEGIN:VCALENDAR
VERSION:2.0
METHOD:PUBLISH
PRODID:-//Accessible Web Design//My Calendar//http://www.joedolson.com//v//EN';
BEGIN:VEVENT
UID:174-165
LOCATION:Pavillón Municipal Jonathan Carro Paz Rúa do Carme, 31, 27300 Guitiriz, Lugo
SUMMARY:Fútbol sala: EDM Guitiriz - Bar Rolindes Celeiro FS (Infantil Xogade)
DTSTAMP:20241116T100000
ORGANIZER;CN=Fran García:MAILTO:fran.garcia@artabra.es
DTSTART:20241116T100000
DTEND:20241116T110000
CATEGORIES:Fútbol sala, General
URL;VALUE=URI:https://deportes.concellodeguitiriz.com/mc-events/futbol-sala-edm-guitiriz-bar-rolindes-celeiro-fs-infantil-xogade/?mc_id=174
DESCRIPTION:O sábado 16 de novembro ás 10:00 horas o Pavillón Municipal Jonathan Carro Paz acollerá o partido da 2ª xornada da liga Formación Futgal Infantil FS - Xogade (Terra Chá, Grupo 2), onde o equipo infantil de EDM Guitiriz verase as caras ante o Bar Rolindes Celeiro FS.
END:VEVENT
END:VCALENDAR