BEGIN:VCALENDAR
VERSION:2.0
METHOD:PUBLISH
PRODID:-//Accessible Web Design//My Calendar//http://www.joedolson.com//v//EN';
BEGIN:VEVENT
UID:177-168
LOCATION:Pavillón Municipal Jonathan Carro Paz Rúa do Carme, 31, 27300 Guitiriz, Lugo
SUMMARY:Fútbol sala: EDM Guitiriz - EDM Outeiro de Rei 1 (Prebenxamín Xogade)
DTSTAMP:20241116T130000
ORGANIZER;CN=Fran García:MAILTO:fran.garcia@artabra.es
DTSTART:20241116T130000
DTEND:20241116T140000
CATEGORIES:Fútbol sala, General
URL;VALUE=URI:https://deportes.concellodeguitiriz.com/mc-events/futbol-sala-edm-guitiriz-edm-outeiro-de-rei-1-prebenxamin-xogade/?mc_id=177
DESCRIPTION:O sábado 16 de novembro ás 13:00 horas o Pavillón Municipal Jonathan Carro Paz acollerá o partido da 2ªxornada da liga Formación Futgal Prebenxamín FS - Xogade (Terra Chá, Grupo 1), onde o equipo EDM Guitiriz prebenxamín verase as caras ante o EDM Outeiro de Rei 1.
END:VEVENT
END:VCALENDAR