BEGIN:VCALENDAR
VERSION:2.0
METHOD:PUBLISH
PRODID:-//Accessible Web Design//My Calendar//http://www.joedolson.com//v//EN';
BEGIN:VEVENT
UID:18-16
LOCATION:
SUMMARY:Fútbol: SCD Milagrosa - SD Guitiriz (Primeiro equipo)
DTSTAMP:20240512T170000
ORGANIZER;CN=Fran García:MAILTO:fran.garcia@artabra.es
DTSTART:20240512T170000
DTEND:20240512T180000
CATEGORIES:Fútbol campo, General
URL;VALUE=URI:https://deportes.concellodeguitiriz.com/mc-events/futbol-scd-milagrosa-sd-guitiriz-primeiro-equipo/?mc_id=18
DESCRIPTION:Primeiro equipo | Domingo 12, 17:00 | vs Milagrosa | Campo Luis Gorgoso (Artificial)
END:VEVENT
END:VCALENDAR