BEGIN:VCALENDAR
VERSION:2.0
METHOD:PUBLISH
PRODID:-//Accessible Web Design//My Calendar//http://www.joedolson.com//v//EN';
BEGIN:VEVENT
UID:199-189
LOCATION:
SUMMARY:Atletismo: Xogade - Campo a Través Zona Terra Chá (Clasificatoria)
DTSTAMP:20241123T110000
ORGANIZER;CN=Fran García:MAILTO:fran.garcia@artabra.es
DTSTART:20241123T110000
DTEND:20241123T133000
CATEGORIES:Atletismo, General
URL;VALUE=URI:https://deportes.concellodeguitiriz.com/mc-events/atletismo-xogade-campo-a-traves-zona-terra-cha-clasificatoria/?mc_id=199
DESCRIPTION:Representantes do Club Atletismo Guitiriz participarán o sábado, 23 de novembro, na carreira Xogade - Campo a Través Zona Terra Chá (Clasificatoria), no Concello de Vilalba. Será a partir das 11:00 horas.
END:VEVENT
END:VCALENDAR