BEGIN:VCALENDAR
VERSION:2.0
METHOD:PUBLISH
PRODID:-//Accessible Web Design//My Calendar//http://www.joedolson.com//v//EN';
BEGIN:VEVENT
UID:214-204
LOCATION:Pavillón Municipal Jonathan Carro Paz Rúa do Carme, 31, 27300 Guitiriz, Lugo
SUMMARY:Fútbol sala: EDM Guitiriz - Grupo Forma-T Vilalba FS (Cadete)
DTSTAMP:20241130T123000
ORGANIZER;CN=Fran García:MAILTO:fran.garcia@artabra.es
DTSTART:20241130T123000
DTEND:20241130T133000
CATEGORIES:Fútbol sala, General
URL;VALUE=URI:https://deportes.concellodeguitiriz.com/mc-events/futbol-sala-edm-guitiriz-grupo-forma-t-vilalba-fs-cadete/?mc_id=214
DESCRIPTION:O sábado 30 de novembro ás 12:30 horas o Pavillón Municipal Jonathan Carro Paz acollerá o partido da 6ª xornada da 1ª Futgal FS Cadete (Lugo), onde o equipo cadete das EDM Guitiriz verase as caras ante o Grupo Forma-T Vilalba FS.
END:VEVENT
END:VCALENDAR