BEGIN:VCALENDAR
VERSION:2.0
METHOD:PUBLISH
PRODID:-//Accessible Web Design//My Calendar//http://www.joedolson.com//v//EN';
BEGIN:VEVENT
UID:240-230
LOCATION:
SUMMARY:Fútbol sala: Luisitalia - O Korreo Guitiriz FS B (Primeira Futgal Senior)
DTSTAMP:20241223T213000
ORGANIZER;CN=Fran García:MAILTO:fran.garcia@artabra.es
DTSTART:20241223T213000
DTEND:20241223T230000
CATEGORIES:Fútbol sala, General
URL;VALUE=URI:https://deportes.concellodeguitiriz.com/mc-events/futbol-sala-luisitalia-o-korreo-guitiriz-fs-b-primeira-futgal-senior/?mc_id=240
DESCRIPTION:O luns 23 de decembro ás 21:30 horas o Pavillón Municipal de Bóveda acollerá o partido da 10ª xornada da 1ª Futgal Senior FS (Grupo 2), onde o segundo equipo verase as caras ante o Luisitalia.
END:VEVENT
END:VCALENDAR