BEGIN:VCALENDAR
VERSION:2.0
METHOD:PUBLISH
PRODID:-//Accessible Web Design//My Calendar//http://www.joedolson.com//v//EN';
BEGIN:VEVENT
UID:258-248
LOCATION:Campo de fútbol Suso Cruz 27308 Guitiriz, Lugo
SUMMARY:Fútbol: SD Guitiriz - SD Residencia B (Xuvenil)
DTSTAMP:20250111T113000
ORGANIZER;CN=Fran García:MAILTO:fran.garcia@artabra.es
DTSTART:20250111T113000
DTEND:20250111T133000
CATEGORIES:Fútbol campo, General
URL;VALUE=URI:https://deportes.concellodeguitiriz.com/mc-events/futbol-sd-guitiriz-sd-residencia-b-xuvenil/?mc_id=258
DESCRIPTION:O sábado 11 de xaneiro ás 11:30 horas o Suso Cruz acollerá o partido da 14ª xornada da 2ª Futgal Lugo (G2 Lugo Centro), onde o equipo xuvenil verase as caras ante a SD Residencia B.
END:VEVENT
END:VCALENDAR