BEGIN:VCALENDAR
VERSION:2.0
METHOD:PUBLISH
PRODID:-//Accessible Web Design//My Calendar//http://www.joedolson.com//v//EN';
BEGIN:VEVENT
UID:265-255
LOCATION:Pavillón Municipal Jonathan Carro Paz Rúa do Carme, 31, 27300 Guitiriz, Lugo
SUMMARY:Fútbol sala: EDM Guitiriz - ADC Piringalla (Cadete)
DTSTAMP:20250112T184500
ORGANIZER;CN=Fran García:MAILTO:fran.garcia@artabra.es
DTSTART:20250112T184500
DTEND:20250112T194500
CATEGORIES:Fútbol sala, General
URL;VALUE=URI:https://deportes.concellodeguitiriz.com/mc-events/futbol-sala-edm-guitiriz-adc-piringalla-cadete/?mc_id=265
DESCRIPTION:O domingo 12 de xaneiro ás 18:45 horas o Pavillón Municipal Jonathan Carro Paz acollerá o partido da 8ª xornada da 1ª Futgal FS Cadete (Lugo), onde o equipo cadete das EDM Guitiriz verase as caras ante a ADC Piringalla.
END:VEVENT
END:VCALENDAR