BEGIN:VCALENDAR
VERSION:2.0
METHOD:PUBLISH
PRODID:-//Accessible Web Design//My Calendar//http://www.joedolson.com//v//EN';
BEGIN:VEVENT
UID:272-261
LOCATION:
SUMMARY:Fútbol sala: Os Meigallos FS B - O Korreo Guitiriz FS B (Primeira Futgal Senior)
DTSTAMP:20250118T160000
ORGANIZER;CN=Fran García:MAILTO:fran.garcia@artabra.es
DTSTART:20250118T160000
DTEND:20250118T173000
CATEGORIES:Fútbol sala, General
URL;VALUE=URI:https://deportes.concellodeguitiriz.com/mc-events/futbol-sala-os-meigallos-fs-b-o-korreo-guitiriz-fs-b-primeira-futgal-senior/?mc_id=272
DESCRIPTION:O sábado 18 de xaneiro ás 16:00 horas o Pavillón O Chanto (Sarria) acollerá o partido da 12ª xornada da 1ª Futgal Senior FS (Grupo 2), onde o segundo equipo verase as caras ante o Os Meigallos FS B.
END:VEVENT
END:VCALENDAR