BEGIN:VCALENDAR
VERSION:2.0
METHOD:PUBLISH
PRODID:-//Accessible Web Design//My Calendar//http://www.joedolson.com//v//EN';
BEGIN:VEVENT
UID:286-274
LOCATION:Campo de fútbol Suso Cruz 27308 Guitiriz, Lugo
SUMMARY:Fútbol: SD Guitiriz - Sporting Pontenova (Alevín F-8)
DTSTAMP:20250125T120000
ORGANIZER;CN=Fran García:MAILTO:fran.garcia@artabra.es
DTSTART:20250125T120000
DTEND:20250125T140000
CATEGORIES:Fútbol campo, General
URL;VALUE=URI:https://deportes.concellodeguitiriz.com/mc-events/futbol-sd-guitiriz-sporting-pontenova-alevin-f-8/?mc_id=286
DESCRIPTION:O sábado 25 de xaneiro ás 12:00 horas o Suso Cruz acollerá o partido da 11ª xornada da 2ª Futgal Lugo (Grupo 2), onde o equipo alevín F-8 verase as caras ante o Sporting Pontenova.
END:VEVENT
END:VCALENDAR