BEGIN:VCALENDAR
VERSION:2.0
METHOD:PUBLISH
PRODID:-//Accessible Web Design//My Calendar//http://www.joedolson.com//v//EN';
BEGIN:VEVENT
UID:287-275
LOCATION:Campo de fútbol Suso Cruz 27308 Guitiriz, Lugo
SUMMARY:Fútbol: SD Guitiriz - ADC A Piringalla (Segunda Futgal)
DTSTAMP:20250126T163000
ORGANIZER;CN=Fran García:MAILTO:fran.garcia@artabra.es
DTSTART:20250126T163000
DTEND:20250126T183000
CATEGORIES:Fútbol campo, General
URL;VALUE=URI:https://deportes.concellodeguitiriz.com/mc-events/futbol-sd-guitiriz-adc-a-piringalla-segunda-futgal/?mc_id=287
DESCRIPTION:O domingo 26 de xaneiro ás 16:30 horas o Suso Cruz acollerá o partido da 18ª xornada da 2ª Futgal Lugo (Grupo 1, Norte), onde o primeiro equipo verase as caras ante a ADC A Piringalla.
END:VEVENT
END:VCALENDAR