BEGIN:VCALENDAR
VERSION:2.0
METHOD:PUBLISH
PRODID:-//Accessible Web Design//My Calendar//http://www.joedolson.com//v//EN';
BEGIN:VEVENT
UID:318-305
LOCATION:
SUMMARY:Atletismo: Control Invierno – La Mochila del Deporte 2025
DTSTAMP:20250207T170000
ORGANIZER;CN=Fran García:MAILTO:fran.garcia@artabra.es
DTSTART:20250207T170000
DTEND:20250207T210000
CATEGORIES:Atletismo, General
URL;VALUE=URI:https://deportes.concellodeguitiriz.com/mc-events/atletismo-control-invierno-la-mochila-del-deporte-2025/?mc_id=318
DESCRIPTION:Representantes do Club Atletismo Guitiriz participarán o venres, 7 de febreiro, no Control Invierno – La Mochila del Deporte 2025, nas pistas de Elviña, no Concello de A Coruña. Será a partir das 17:00 horas.
END:VEVENT
END:VCALENDAR