BEGIN:VCALENDAR
VERSION:2.0
METHOD:PUBLISH
PRODID:-//Accessible Web Design//My Calendar//http://www.joedolson.com//v//EN';
BEGIN:VEVENT
UID:323-310
LOCATION:Campo de fútbol Suso Cruz 27308 Guitiriz, Lugo
SUMMARY:Fútbol: SD Guitiriz - ADC A Piringalla (Xuvenil)
DTSTAMP:20250208T161500
ORGANIZER;CN=Fran García:MAILTO:fran.garcia@artabra.es
DTSTART:20250208T161500
DTEND:20250208T181500
CATEGORIES:Fútbol campo, General
URL;VALUE=URI:https://deportes.concellodeguitiriz.com/mc-events/futbol-sd-guitiriz-adc-a-piringalla-xuvenil/?mc_id=323
DESCRIPTION:O sábado 8 de febreiro ás 16:15 horas o Suso Cruz acollerá o partido da 18ª xornada da 2ª Futgal Lugo (G2 Lugo Centro), onde o equipo xuvenil verase as caras ante a ADC A Piringalla.
END:VEVENT
END:VCALENDAR