BEGIN:VCALENDAR
VERSION:2.0
METHOD:PUBLISH
PRODID:-//Accessible Web Design//My Calendar//http://www.joedolson.com//v//EN';
BEGIN:VEVENT
UID:324-311
LOCATION:
SUMMARY:Fútbol: Casás - SD Guitiriz (Infantil)
DTSTAMP:20250208T120000
ORGANIZER;CN=Fran García:MAILTO:fran.garcia@artabra.es
DTSTART:20250208T120000
DTEND:20250208T140000
CATEGORIES:Fútbol campo, General
URL;VALUE=URI:https://deportes.concellodeguitiriz.com/mc-events/futbol-casas-sd-guitiriz-infantil/?mc_id=324
DESCRIPTION:O sábado 8 de febreiro ás 12:00 horas o Municipal Rodríguez Lago 1 acollerá o partido da 18ª xornada da 2ª Futgal Lugo (G1 Lugo Norte), onde o equipo infantil verase as caras ante o Casás.
END:VEVENT
END:VCALENDAR