BEGIN:VCALENDAR
VERSION:2.0
METHOD:PUBLISH
PRODID:-//Accessible Web Design//My Calendar//http://www.joedolson.com//v//EN';
BEGIN:VEVENT
UID:339-325
LOCATION:Pavillón Municipal Jonathan Carro Paz Rúa do Carme, 31, 27300 Guitiriz, Lugo
SUMMARY:Fútbol sala: EDM Guitiriz - Vilalba FS (Prebenxamín Xogade)
DTSTAMP:20250215T110000
ORGANIZER;CN=Fran García:MAILTO:fran.garcia@artabra.es
DTSTART:20250215T110000
DTEND:20250215T120000
CATEGORIES:Fútbol sala, General
URL;VALUE=URI:https://deportes.concellodeguitiriz.com/mc-events/futbol-sala-edm-guitiriz-vilalba-fs-prebenxamin-xogade/?mc_id=339
DESCRIPTION:O sábado 15 de febreiro ás 11:00  horas disputarase no Pavillón Municipal Jonathan Carro Paz un partido da liga Formación Futgal Prebenxamín FS - Xogade (Terra Chá, Grupo 1), onde o equipo EDM Guitiriz prebenxamín verase as caras ante o Vilalba FS.
END:VEVENT
END:VCALENDAR