BEGIN:VCALENDAR
VERSION:2.0
METHOD:PUBLISH
PRODID:-//Accessible Web Design//My Calendar//http://www.joedolson.com//v//EN';
BEGIN:VEVENT
UID:352-338
LOCATION:
SUMMARY:Fútbol sala: IM Galical Rábade FS - O Korreo Guitiriz FS (Terceira División Nacional)
DTSTAMP:20250221T214500
ORGANIZER;CN=Fran García:MAILTO:fran.garcia@artabra.es
DTSTART:20250221T214500
DTEND:20250221T230000
CATEGORIES:Fútbol sala, General
URL;VALUE=URI:https://deportes.concellodeguitiriz.com/mc-events/futbol-sala-im-galical-rabade-fs-o-korreo-guitiriz-fs-terceira-division-nacional/?mc_id=352
DESCRIPTION:O venres 21 de febreiro ás 21:45 horas o Pavillón Eduardo Fernández Villamarín de Rábade acollerá o partido da 22ª xornada da 3ª División Nacional FS (Grupo 1), onde o primeiro equipo verase as caras ante o IM Galical Rábade FS.
END:VEVENT
END:VCALENDAR