BEGIN:VCALENDAR
VERSION:2.0
METHOD:PUBLISH
PRODID:-//Accessible Web Design//My Calendar//http://www.joedolson.com//v//EN';
BEGIN:VEVENT
UID:357-343
LOCATION:Campo de fútbol Suso Cruz 27308 Guitiriz, Lugo
SUMMARY:Fútbol: SD Guitiriz - SD Antas (Alevín F-8)
DTSTAMP:20250223T101500
ORGANIZER;CN=Fran García:MAILTO:fran.garcia@artabra.es
DTSTART:20250223T101500
DTEND:20250223T121500
CATEGORIES:Fútbol campo, General
URL;VALUE=URI:https://deportes.concellodeguitiriz.com/mc-events/futbol-sd-guitiriz-sd-antas-alevin-f-8/?mc_id=357
DESCRIPTION:O domingo 23 de febreiro ás 10:15 horas o Suso Cruz acollerá o partido da 1ª xornada da 2ª Futgal Lugo (2ª Fase - Grupo 8), onde o equipo alevín F-8 verase as caras ante o SD Antas.
END:VEVENT
END:VCALENDAR