BEGIN:VCALENDAR
VERSION:2.0
METHOD:PUBLISH
PRODID:-//Accessible Web Design//My Calendar//http://www.joedolson.com//v//EN';
BEGIN:VEVENT
UID:381-366
LOCATION:
SUMMARY:Atletismo: XXII Campionato Xunta de Galicia de Atletismo Sub14 en Pista Curta
DTSTAMP:20250309T110000
ORGANIZER;CN=Fran García:MAILTO:fran.garcia@artabra.es
DTSTART:20250309T110000
DTEND:20250309T180000
CATEGORIES:Atletismo, General
URL;VALUE=URI:https://deportes.concellodeguitiriz.com/mc-events/atletismo-xxii-campionato-xunta-de-galicia-de-atletismo-sub14-en-pista-curta/?mc_id=381
DESCRIPTION:Representantes do Club Atletismo Guitiriz participarán o domingo, 9 de marzo, no XXII Campionato Xunta de Galicia de Atletismo Sub14 en Pista Curta, no Concello de Ourense. Será a partir das 11:00 horas.
END:VEVENT
END:VCALENDAR