BEGIN:VCALENDAR
VERSION:2.0
METHOD:PUBLISH
PRODID:-//Accessible Web Design//My Calendar//http://www.joedolson.com//v//EN';
BEGIN:VEVENT
UID:387-370
LOCATION:Campo de fútbol Suso Cruz 27308 Guitiriz, Lugo
SUMMARY:Fútbol: SD Guitiriz - ADC A Piringalla C (Infantil)
DTSTAMP:20250308T110000
ORGANIZER;CN=Fran García:MAILTO:fran.garcia@artabra.es
DTSTART:20250308T110000
DTEND:20250308T130000
CATEGORIES:Fútbol campo, General
URL;VALUE=URI:https://deportes.concellodeguitiriz.com/mc-events/futbol-sd-guitiriz-adc-a-piringalla-c-infantil/?mc_id=387
DESCRIPTION:O sábado 8 de marzo ás 11:00 horas o Suso Cruz acollerá o partido da 2ª xornada da 2ª Futgal Lugo (2ª Fase - T. Delegación Gr. B), onde o equipo infantil verase as caras ante a ADC A Piringalla C.
END:VEVENT
END:VCALENDAR