BEGIN:VCALENDAR
VERSION:2.0
METHOD:PUBLISH
PRODID:-//Accessible Web Design//My Calendar//http://www.joedolson.com//v//EN';
BEGIN:VEVENT
UID:398-381
LOCATION:Pavillón Municipal Jonathan Carro Paz Rúa do Carme, 31, 27300 Guitiriz, Lugo
SUMMARY:Fútbol sala Semifinal Xogade: EDM Guitiriz - Outeiro de Rei (Infantil)
DTSTAMP:20250315T120000
ORGANIZER;CN=Fran García:MAILTO:fran.garcia@artabra.es
DTSTART:20250315T120000
DTEND:20250315T130000
CATEGORIES:Fútbol sala
URL;VALUE=URI:https://deportes.concellodeguitiriz.com/mc-events/futbol-sala-semifinal-xogade-edm-guitiriz-outeiro-de-rei-infantil/?mc_id=398
DESCRIPTION:
END:VEVENT
END:VCALENDAR