BEGIN:VCALENDAR
VERSION:2.0
METHOD:PUBLISH
PRODID:-//Accessible Web Design//My Calendar//http://www.joedolson.com//v//EN';
BEGIN:VEVENT
UID:42-40
LOCATION:
SUMMARY:Atletismo: Final provincial Xogade
DTSTAMP:20240602
ORGANIZER;CN=admin:MAILTO:mlexposito@gmail.com
DTSTART:20240602
DTEND:20240603
CATEGORIES:Atletismo, General
URL;VALUE=URI:https://deportes.concellodeguitiriz.com/mc-events/atletismo-final-provincial-xogade/?mc_id=42
DESCRIPTION:O Club Atletismo Guitiriz participará este domingo, 2 de xuño, na final provincial do Xogade en pista, nas pistas das Pedreiras (Lugo).
X-FUNAMBOL-ALLDAY: 1
X-MICROSOFT-CDO-ALLDAYEVENT: TRUE

END:VEVENT
END:VCALENDAR