BEGIN:VCALENDAR
VERSION:2.0
METHOD:PUBLISH
PRODID:-//Accessible Web Design//My Calendar//http://www.joedolson.com//v//EN';
BEGIN:VEVENT
UID:440-420
LOCATION:
SUMMARY:Atletismo: XI Carreira Pedestre Concello De Oroso - 10K
DTSTAMP:20250330T100000
ORGANIZER;CN=Fran García:MAILTO:fran.garcia@artabra.es
DTSTART:20250330T100000
DTEND:20250330T130000
CATEGORIES:Atletismo, General
URL;VALUE=URI:https://deportes.concellodeguitiriz.com/mc-events/atletismo-xi-carreira-pedestre-concello-de-oroso-10k/?mc_id=440
DESCRIPTION:Representantes do Club Atletismo Guitiriz participarán o domingo, 30 de marzo, na XI Carreira Pedestre Concello De Oroso - 10K. Será a partir das 10:00 horas.
END:VEVENT
END:VCALENDAR