BEGIN:VCALENDAR
VERSION:2.0
METHOD:PUBLISH
PRODID:-//Accessible Web Design//My Calendar//http://www.joedolson.com//v//EN';
BEGIN:VEVENT
UID:452-432
LOCATION:
SUMMARY:Fútbol sala: Vilalba - EDM Guitiriz A (Benxamín Xogade)
DTSTAMP:20250405T123000
ORGANIZER;CN=Fran García:MAILTO:fran.garcia@artabra.es
DTSTART:20250405T123000
DTEND:20250405T133000
CATEGORIES:Fútbol sala, General
URL;VALUE=URI:https://deportes.concellodeguitiriz.com/mc-events/futbol-sala-vilalba-edm-guitiriz-a-benxamin-xogade/?mc_id=452
DESCRIPTION:O sábado 5 de abril ás 12:30 horas xogarase en Vilalba un partido da liga Formación Futgal Benxamín FS - Xogade, onde o equipo EDM Guitiriz A benxamín verase as caras ante o Vilalba.
END:VEVENT
END:VCALENDAR