BEGIN:VCALENDAR
VERSION:2.0
METHOD:PUBLISH
PRODID:-//Accessible Web Design//My Calendar//http://www.joedolson.com//v//EN';
BEGIN:VEVENT
UID:457-437
LOCATION:
SUMMARY:Atletismo: Xogade - Atletismo en Pista (3ª Xornada)
DTSTAMP:20250406T100000
ORGANIZER;CN=Fran García:MAILTO:fran.garcia@artabra.es
DTSTART:20250406T100000
DTEND:20250406T140000
CATEGORIES:Atletismo, General
URL;VALUE=URI:https://deportes.concellodeguitiriz.com/mc-events/atletismo-xogade-atletismo-en-pista-3a-xornada/?mc_id=457
DESCRIPTION:Representantes do Club Atletismo Guitiriz participarán o domingo, 6 de abril, na 3ª xornada do Xogade - Atletismo en Pista, no Concello de Lugo. Será a partir das 10:00 horas.
END:VEVENT
END:VCALENDAR