BEGIN:VCALENDAR
VERSION:2.0
METHOD:PUBLISH
PRODID:-//Accessible Web Design//My Calendar//http://www.joedolson.com//v//EN';
BEGIN:VEVENT
UID:463-443
LOCATION:Pavillón Municipal Jonathan Carro Paz Rúa do Carme, 31, 27300 Guitiriz, Lugo
SUMMARY:Fútbol sala: O Korreo Guitiriz FS - Bueu FS (Terceira División Nacional)
DTSTAMP:20250413T113000
ORGANIZER;CN=Fran García:MAILTO:fran.garcia@artabra.es
DTSTART:20250413T113000
DTEND:20250413T133000
CATEGORIES:Fútbol sala, General
URL;VALUE=URI:https://deportes.concellodeguitiriz.com/mc-events/futbol-sala-o-korreo-guitiriz-fs-bueu-fs-terceira-division-nacional/?mc_id=463
DESCRIPTION:O domingo 13 de abril ás 11:30 horas o Pavillón Municipal Jonathan Carro Paz acollerá o partido da 28ª xornada da 3ª División Nacional FS (Grupo 1), onde o primeiro equipo verase as caras ante o Bueu FS.
END:VEVENT
END:VCALENDAR