BEGIN:VCALENDAR
VERSION:2.0
METHOD:PUBLISH
PRODID:-//Accessible Web Design//My Calendar//http://www.joedolson.com//v//EN';
BEGIN:VEVENT
UID:471-451
LOCATION:Pavillón Municipal Jonathan Carro Paz Rúa do Carme, 31, 27300 Guitiriz, Lugo
SUMMARY:Fútbol sala: EDM Guitiriz - Friol (Infantil Xogade)
DTSTAMP:20250412T100000
ORGANIZER;CN=Fran García:MAILTO:fran.garcia@artabra.es
DTSTART:20250412T100000
DTEND:20250412T110000
CATEGORIES:Fútbol sala, General
URL;VALUE=URI:https://deportes.concellodeguitiriz.com/mc-events/futbol-sala-edm-guitiriz-friol-infantil-xogade/?mc_id=471
DESCRIPTION:O sábado 12 de abril ás 10:00 horas xogarase no Pavillón Municipal Jonathan Carro Paz un partido dos Provinciais Xogade Infantil, onde o equipo infantil das EDM Guitiriz verase as caras ante o Friol.
END:VEVENT
END:VCALENDAR