BEGIN:VCALENDAR
VERSION:2.0
METHOD:PUBLISH
PRODID:-//Accessible Web Design//My Calendar//http://www.joedolson.com//v//EN';
BEGIN:VEVENT
UID:48-46
LOCATION:
SUMMARY:BTT: VIII BTT Oza-Cesuras
DTSTAMP:20240602
ORGANIZER;CN=Fran García:MAILTO:fran.garcia@artabra.es
DTSTART:20240602
DTEND:20240603
CATEGORIES:BTT, General
URL;VALUE=URI:https://deportes.concellodeguitiriz.com/mc-events/btt-viii-btt-oza-cesuras/?mc_id=48
DESCRIPTION:O Club Btteiros Cova da Serpe participa este domingo, 2 de xuño, na VIII BTT Oza-Cesuras, unha proba que volta ao calendario tras varios anos de ausencia.
X-FUNAMBOL-ALLDAY: 1
X-MICROSOFT-CDO-ALLDAYEVENT: TRUE

END:VEVENT
END:VCALENDAR