BEGIN:VCALENDAR
VERSION:2.0
METHOD:PUBLISH
PRODID:-//Accessible Web Design//My Calendar//http://www.joedolson.com//v//EN';
BEGIN:VEVENT
UID:487-467
LOCATION:
SUMMARY:Atletismo: Final de Dúatlon Escolar Xogade Provincia de Lugo
DTSTAMP:20250426T110000
ORGANIZER;CN=Fran García:MAILTO:fran.garcia@artabra.es
DTSTART:20250426T110000
DTEND:20250426T133000
CATEGORIES:Atletismo, General
URL;VALUE=URI:https://deportes.concellodeguitiriz.com/mc-events/atletismo-final-de-duatlon-escolar-xogade-provincia-de-lugo/?mc_id=487
DESCRIPTION:Representantes do Club Atletismo Guitiriz participarán o sábado, 26 de abril, na Final de Dúatlon Escolar Xogade Provincia de Lugo, no Concello de Cospeito. Será a partir das 11:00 horas.
END:VEVENT
END:VCALENDAR