BEGIN:VCALENDAR
VERSION:2.0
METHOD:PUBLISH
PRODID:-//Accessible Web Design//My Calendar//http://www.joedolson.com//v//EN';
BEGIN:VEVENT
UID:488-468
LOCATION:
SUMMARY:Atletismo: XI Carreira Popular de Friol
DTSTAMP:20250426T171500
ORGANIZER;CN=Fran García:MAILTO:fran.garcia@artabra.es
DTSTART:20250426T171500
DTEND:20250426T190000
CATEGORIES:Atletismo, General
URL;VALUE=URI:https://deportes.concellodeguitiriz.com/mc-events/atletismo-xi-carreira-popular-de-friol/?mc_id=488
DESCRIPTION:Representantes do Club Atletismo Guitiriz participarán o sábado, 26 de abril, na XI Carreira Popular de Friol, no Concello de Friol. Será a partir das 17:15 horas.
END:VEVENT
END:VCALENDAR