BEGIN:VCALENDAR
VERSION:2.0
METHOD:PUBLISH
PRODID:-//Accessible Web Design//My Calendar//http://www.joedolson.com//v//EN';
BEGIN:VEVENT
UID:490-470
LOCATION:
SUMMARY:Fútbol sala: Praias de Barreiros - EDM Guitiriz (Cadete)
DTSTAMP:20250425T190000
ORGANIZER;CN=Fran García:MAILTO:fran.garcia@artabra.es
DTSTART:20250425T190000
DTEND:20250425T200000
CATEGORIES:Fútbol sala, General
URL;VALUE=URI:https://deportes.concellodeguitiriz.com/mc-events/futbol-sala-praias-de-barreiros-edm-guitiriz-cadete/?mc_id=490
DESCRIPTION:O venres 25 de abril ás 19:00 horas xogarase en Barreiros un partido da Copa Federación Cadete onde o equipo cadete das EDM Guitiriz verase as caras ante o Praias de Barreiros.
END:VEVENT
END:VCALENDAR