BEGIN:VCALENDAR
VERSION:2.0
METHOD:PUBLISH
PRODID:-//Accessible Web Design//My Calendar//http://www.joedolson.com//v//EN';
BEGIN:VEVENT
UID:502-482
LOCATION:Campo de fútbol Suso Cruz 27308 Guitiriz, Lugo
SUMMARY:Fútbol: Guitiriz SD - CD Castro (Infantil)
DTSTAMP:20250426T100000
ORGANIZER;CN=Fran García:MAILTO:fran.garcia@artabra.es
DTSTART:20250426T100000
DTEND:20250426T120000
CATEGORIES:Fútbol campo, General
URL;VALUE=URI:https://deportes.concellodeguitiriz.com/mc-events/futbol-guitiriz-sd-cd-castro-infantil/?mc_id=502
DESCRIPTION:O sábado 26 de abril ás 10:00 horas o Suso Cruz acollerá o partido da 8ª xornada da 2ª Futgal Lugo (2ª Fase - T. Delegación Gr. B), onde o equipo infantil verase as caras ante o CD Castro.
END:VEVENT
END:VCALENDAR