BEGIN:VCALENDAR
VERSION:2.0
METHOD:PUBLISH
PRODID:-//Accessible Web Design//My Calendar//http://www.joedolson.com//v//EN';
BEGIN:VEVENT
UID:504-484
LOCATION:
SUMMARY:Fútbol: AD Ferroviaria - SD Guitiriz (Cadete)
DTSTAMP:20250427T100000
ORGANIZER;CN=Fran García:MAILTO:fran.garcia@artabra.es
DTSTART:20250427T100000
DTEND:20250427T120000
CATEGORIES:Fútbol campo, General
URL;VALUE=URI:https://deportes.concellodeguitiriz.com/mc-events/futbol-ad-ferroviaria-sd-guitiriz-cadete/?mc_id=504
DESCRIPTION:O domingo 27 de abril ás 10:00 horas o Luis Gorgoso acollerá o partido da xornada 8 da 2ª Fase da 2ª Cadete Futgal - Lugo, onde o equipo cadete verase as caras ante a AD Ferroviaria.
END:VEVENT
END:VCALENDAR