BEGIN:VCALENDAR
VERSION:2.0
METHOD:PUBLISH
PRODID:-//Accessible Web Design//My Calendar//http://www.joedolson.com//v//EN';
BEGIN:VEVENT
UID:512-492
LOCATION:
SUMMARY:Fútbol sala: Concello de Begonte FS B - O Korreo Guitiriz FS B (Primeira Futgal Senior)
DTSTAMP:20250504T190000
ORGANIZER;CN=Fran García:MAILTO:fran.garcia@artabra.es
DTSTART:20250504T190000
DTEND:20250504T210000
CATEGORIES:Fútbol sala, General
URL;VALUE=URI:https://deportes.concellodeguitiriz.com/mc-events/futbol-sala-concello-de-begonte-fs-b-o-korreo-guitiriz-fs-b-primeira-futgal-senior/?mc_id=512
DESCRIPTION:O domingo 4 de maio ás 19:00 horas o Pavillón Municipal de Baamonde acollerá o partido da 26ª xornada da 1ª Futgal Senior FS (Grupo 2), onde o segundo equipo verase as caras ante o Concello de Begonte FS B.
END:VEVENT
END:VCALENDAR