BEGIN:VCALENDAR
VERSION:2.0
METHOD:PUBLISH
PRODID:-//Accessible Web Design//My Calendar//http://www.joedolson.com//v//EN';
BEGIN:VEVENT
UID:540-518
LOCATION:
SUMMARY:Fútbol sala: Fonte do Rei - EDM Guitiriz (Benxamín)
DTSTAMP:20250510T160000
ORGANIZER;CN=Fran García:MAILTO:fran.garcia@artabra.es
DTSTART:20250510T160000
DTEND:20250510T173000
CATEGORIES:Fútbol sala, General
URL;VALUE=URI:https://deportes.concellodeguitiriz.com/mc-events/futbol-sala-fonte-do-rei-edm-guitiriz-benxamin/?mc_id=540
DESCRIPTION:O sábado 10 de maio ás 16:00 horas xogarase no Pavillón de Frigsa (Lugo) un partido da Liga Benxamín, onde o equipo EDM Guitiriz benxamín verase as caras ante o Fonte do Rei.
END:VEVENT
END:VCALENDAR