BEGIN:VCALENDAR
VERSION:2.0
METHOD:PUBLISH
PRODID:-//Accessible Web Design//My Calendar//http://www.joedolson.com//v//EN';
BEGIN:VEVENT
UID:554-532
LOCATION:
SUMMARY:Fútbol sala: Ribeira C - EDM Guitiriz (Cadete)
DTSTAMP:20250525T190000
ORGANIZER;CN=Fran García:MAILTO:fran.garcia@artabra.es
DTSTART:20250525T190000
DTEND:20250525T200000
CATEGORIES:Fútbol sala, General
URL;VALUE=URI:https://deportes.concellodeguitiriz.com/mc-events/futbol-sala-ribeira-c-edm-guitiriz-cadete/?mc_id=554
DESCRIPTION:O domingo 25 de maio ás 19:00 horas xogarase no Polideportivo Somos Fútbol un partido da Copa Federación Cadete onde o equipo cadete das EDM Guitiriz verase as caras ante o Ribeira C.
END:VEVENT
END:VCALENDAR