BEGIN:VCALENDAR
VERSION:2.0
METHOD:PUBLISH
PRODID:-//Accessible Web Design//My Calendar//http://www.joedolson.com//v//EN';
BEGIN:VEVENT
UID:576-554
LOCATION:
SUMMARY:Fútbol sala: Lago Sport 2 - EDM Guitiriz (Biberón)
DTSTAMP:20250530T185500
ORGANIZER;CN=Fran García:MAILTO:fran.garcia@artabra.es
DTSTART:20250530T185500
DTEND:20250530T195500
CATEGORIES:Fútbol sala, General
URL;VALUE=URI:https://deportes.concellodeguitiriz.com/mc-events/futbol-sala-lago-sport-2-edm-guitiriz-biberon/?mc_id=576
DESCRIPTION:O venres 30 de maio ás 18:55 horas xogarase un partido do Torneo de As Pontes da categoría Biberón, onde o equipo das EDM Guitiriz verase as caras ante o Lago Sport 2.
END:VEVENT
END:VCALENDAR