BEGIN:VCALENDAR
VERSION:2.0
METHOD:PUBLISH
PRODID:-//Accessible Web Design//My Calendar//http://www.joedolson.com//v//EN';
BEGIN:VEVENT
UID:579-557
LOCATION:
SUMMARY:Atletismo: XIV Carreira Popular de Chantada10 km no Corazón
DTSTAMP:20250531T173000
ORGANIZER;CN=Fran García:MAILTO:fran.garcia@artabra.es
DTSTART:20250531T173000
DTEND:20250531T193000
CATEGORIES:Atletismo, General
URL;VALUE=URI:https://deportes.concellodeguitiriz.com/mc-events/atletismo-xiv-carreira-popular-de-chantada10-km-no-corazon/?mc_id=579
DESCRIPTION:Representantes do Club Atletismo Guitiriz participarán o sábado, 31 de maio, na XIV Carreira Popular de Chantada10 km no Corazón. Será a partir das 17:30 horas.
END:VEVENT
END:VCALENDAR