BEGIN:VCALENDAR
VERSION:2.0
METHOD:PUBLISH
PRODID:-//Accessible Web Design//My Calendar//http://www.joedolson.com//v//EN';
BEGIN:VEVENT
UID:586-564
LOCATION:
SUMMARY:Fútbol: SD Viveiro - SD Guitiriz (Xuvenil)
DTSTAMP:20250607T180000
ORGANIZER;CN=Fran García:MAILTO:fran.garcia@artabra.es
DTSTART:20250607T180000
DTEND:20250607T200000
CATEGORIES:Fútbol campo, General
URL;VALUE=URI:https://deportes.concellodeguitiriz.com/mc-events/futbol-sd-viveiro-sd-guitiriz-xuvenil/?mc_id=586
DESCRIPTION:O sábado 7 de xuño ás 18:00 horas o Municipal Marcos Gómez de Viveiro acollerá o partido da 14ª xornada da 2ª Futgal Lugo (2ª Fase - Promoción), onde o equipo xuvenil verase as caras ante a SD Viveiro.
END:VEVENT
END:VCALENDAR