BEGIN:VCALENDAR
VERSION:2.0
METHOD:PUBLISH
PRODID:-//Accessible Web Design//My Calendar//http://www.joedolson.com//v//EN';
BEGIN:VEVENT
UID:641-617
LOCATION:
SUMMARY:Atletismo: II Milla Urbana Lucus
DTSTAMP:20251011T120000
ORGANIZER;CN=Fran García:MAILTO:fran.garcia@artabra.es
DTSTART:20251011T120000
DTEND:20251011T140000
CATEGORIES:Atletismo
URL;VALUE=URI:https://deportes.concellodeguitiriz.com/mc-events/atletismo-ii-milla-urbana-lucus/?mc_id=641
DESCRIPTION:Representantes do Club Atletismo Guitiriz participarán o sábado, 11 de outubro, na II Milla Urbana Lucus, no Concello de Lugo. Será a partir das 12:00 horas.
END:VEVENT
END:VCALENDAR