BEGIN:VCALENDAR
VERSION:2.0
METHOD:PUBLISH
PRODID:-//Accessible Web Design//My Calendar//http://www.joedolson.com//v//EN';
BEGIN:VEVENT
UID:649-625
LOCATION:Pavillón Municipal Jonathan Carro Paz Rúa do Carme, 31, 27300 Guitiriz, Lugo
SUMMARY:Fútbol sala: O Korreo Guitiriz FS B - Oural FS (Primeira Futgal Senior)
DTSTAMP:20251012T181500
ORGANIZER;CN=Fran García:MAILTO:fran.garcia@artabra.es
DTSTART:20251012T181500
DTEND:20251012T201500
CATEGORIES:Fútbol sala
URL;VALUE=URI:https://deportes.concellodeguitiriz.com/mc-events/futbol-sala-o-korreo-guitiriz-fs-b-oural-fs-primeira-futgal-senior-2/?mc_id=649
DESCRIPTION:O domingo 12 de outubro o segundo equipo do O Korreo Guitiriz FS xogará ás 18:15 horas no Pavillón Municipal Jonathan Carro Paz contra o Oural FS, nun partido da Primeira Futgal Senior.
END:VEVENT
END:VCALENDAR