BEGIN:VCALENDAR
VERSION:2.0
METHOD:PUBLISH
PRODID:-//Accessible Web Design//My Calendar//http://www.joedolson.com//v//EN';
BEGIN:VEVENT
UID:653-629
LOCATION:
SUMMARY:Fútbol: Burela SD - SD Guitiriz (Cadete)
DTSTAMP:20251019T123000
ORGANIZER;CN=Fran García:MAILTO:fran.garcia@artabra.es
DTSTART:20251019T123000
DTEND:20251019T143000
CATEGORIES:Fútbol campo
URL;VALUE=URI:https://deportes.concellodeguitiriz.com/mc-events/futbol-burela-sd-sd-guitiriz-cadete-2/?mc_id=653
DESCRIPTION:O domingo 19 de outubro o equipo cadete da SD Guitiriz xogará contra o Burela SD no Anexo A Maroxa ás 12:30 horas.
END:VEVENT
END:VCALENDAR