BEGIN:VCALENDAR
VERSION:2.0
METHOD:PUBLISH
PRODID:-//Accessible Web Design//My Calendar//http://www.joedolson.com//v//EN';
BEGIN:VEVENT
UID:657-633
LOCATION:Pavillón Municipal Jonathan Carro Paz Rúa do Carme, 31, 27300 Guitiriz, Lugo
SUMMARY:Fútbol sala: EDM Guitiriz A - Vilalba (Prebenxamín)
DTSTAMP:20251018T130000
ORGANIZER;CN=Fran García:MAILTO:fran.garcia@artabra.es
DTSTART:20251018T130000
DTEND:20251018T140000
CATEGORIES:Fútbol sala
URL;VALUE=URI:https://deportes.concellodeguitiriz.com/mc-events/futbol-sala-edm-guitiriz-a-vilalba-prebenxamin/?mc_id=657
DESCRIPTION:O sábado 18 de outubro ás 13:00 horas o equipo da categoría prebenxamín A das EDM Guitiriz verase as caras co Vilalba nun partido amigable no Pavillón Jonathan Carro Paz.
END:VEVENT
END:VCALENDAR