BEGIN:VCALENDAR
VERSION:2.0
METHOD:PUBLISH
PRODID:-//Accessible Web Design//My Calendar//http://www.joedolson.com//v//EN';
BEGIN:VEVENT
UID:658-634
LOCATION:Pavillón Municipal Jonathan Carro Paz Rúa do Carme, 31, 27300 Guitiriz, Lugo
SUMMARY:Fútbol sala: EDM Guitiriz B - Vilalba (Benxamín)
DTSTAMP:20251018T110000
ORGANIZER;CN=Fran García:MAILTO:fran.garcia@artabra.es
DTSTART:20251018T110000
DTEND:20251018T120000
CATEGORIES:Fútbol sala
URL;VALUE=URI:https://deportes.concellodeguitiriz.com/mc-events/futbol-sala-edm-guitiriz-b-vilalba-benxamin/?mc_id=658
DESCRIPTION:O sábado 18 de outubro ás 11:00 horas o equipo benxamín B das EDM Guitiriz verase as caras co Vilalba nun partido amigable no Pavillón Jonathan Carro Paz.
END:VEVENT
END:VCALENDAR