BEGIN:VCALENDAR
VERSION:2.0
METHOD:PUBLISH
PRODID:-//Accessible Web Design//My Calendar//http://www.joedolson.com//v//EN';
BEGIN:VEVENT
UID:660-636
LOCATION:Pavillón Municipal Jonathan Carro Paz Rúa do Carme, 31, 27300 Guitiriz, Lugo
SUMMARY:Fútbol sala: EDM Guitiriz - Melide FS (Alevín)
DTSTAMP:20251018T100000
ORGANIZER;CN=Fran García:MAILTO:fran.garcia@artabra.es
DTSTART:20251018T100000
DTEND:20251018T110000
CATEGORIES:Fútbol sala
URL;VALUE=URI:https://deportes.concellodeguitiriz.com/mc-events/futbol-sala-edm-guitiriz-melide-fs-alevin-2/?mc_id=660
DESCRIPTION:O sábado 18 de outubro ás 10:00 horas a categoría alevín das EDM Guitiriz verase as caras co Vilalba nun partido amigable no Pavillón Municipal Jonathan Carro Paz.
END:VEVENT
END:VCALENDAR