BEGIN:VCALENDAR
VERSION:2.0
METHOD:PUBLISH
PRODID:-//Accessible Web Design//My Calendar//http://www.joedolson.com//v//EN';
BEGIN:VEVENT
UID:670-646
LOCATION:Pavillón Municipal Jonathan Carro Paz Rúa do Carme, 31, 27300 Guitiriz, Lugo
SUMMARY:Fútbol sala: O Korreo Guitiriz FS - Sala Ourense (Terceira División Nacional)
DTSTAMP:20251026T190000
ORGANIZER;CN=Fran García:MAILTO:fran.garcia@artabra.es
DTSTART:20251026T190000
DTEND:20251026T210000
CATEGORIES:Fútbol sala
URL;VALUE=URI:https://deportes.concellodeguitiriz.com/mc-events/futbol-sala-o-korreo-guitiriz-fs-sala-ourense-terceira-division-nacional-2/?mc_id=670
DESCRIPTION:O domingo 26 de outubro o primeiro equipo do O Korreo Guitiriz FS xogará ás 19:00 horas no Pavillón Municipal Jonathan Carro Paz contra o Sala Ourense, nun partido da Terceira División Nacional.
END:VEVENT
END:VCALENDAR